BEGIN:VCALENDAR
PRODID:-//github.com/rianjs/ical.net//NONSGML ical.net 4.0//EN
VERSION:2.0
BEGIN:VEVENT
DESCRIPTION:Der Mountainbikeklassiker im Naturpark Stromberg-Heuchelberg: 
 Auf wenig befahrenen Trails geht es über die Höhen des Strombergs.\nhttps
 ://touren-termine.adfc.de/radveranstaltung/148337-der-stromberg-rennweg-i
 m-wandel-der-jahreszeiten
DTEND:20250216T150000Z
DTSTAMP:20260425T195351Z
DTSTART:20250216T080000Z
LOCATION:Kuhriosum (Kronenplatz)\, 74321 Bietigheim-Bissingen
SEQUENCE:0
SUMMARY:Der Stromberg Rennweg im Wandel der Jahreszeiten
UID:5f184c83-7e90-44e8-a93a-155400cd0913
URL:https://touren-termine.adfc.de/radveranstaltung/148337-der-stromberg-r
 ennweg-im-wandel-der-jahreszeiten
END:VEVENT
END:VCALENDAR
