BEGIN:VCALENDAR
PRODID:-//github.com/rianjs/ical.net//NONSGML ical.net 4.0//EN
VERSION:2.0
BEGIN:VEVENT
DESCRIPTION:Jeden Mittwoch vom 1.4. bis zum 31.8.2026\nStart 18.oo am Rath
 aus Gbw\, ca 30km\nhttps://touren-termine.adfc.de/radveranstaltung/192737
 -kurztour
DTEND:20260617T180000Z
DTSTAMP:20260423T183020Z
DTSTART:20260617T160000Z
LOCATION:Fuhrberger Straße 4\, 30938 Burgwedel
SEQUENCE:0
SUMMARY:Kurztour
UID:08a9dd49-4068-49a2-a921-034a85d18968
URL:https://touren-termine.adfc.de/radveranstaltung/192737-kurztour
END:VEVENT
END:VCALENDAR
