BEGIN:VCALENDAR
PRODID:-//github.com/rianjs/ical.net//NONSGML ical.net 4.0//EN
VERSION:2.0
BEGIN:VEVENT
DESCRIPTION:Ein schönes Fest wollen wir uns nicht entgehen lassen: das Blu
 menfest in Röthenbach a. d. Pegnitz. Bitte bei Tourenleiter bis 23.08.202
 4 anmelden!\nhttps://touren-termine.adfc.de/radveranstaltung/129569-rothe
 nbach-in-blumenpracht
DTEND:20240825T160000Z
DTSTAMP:20260424T231310Z
DTSTART:20240825T063000Z
LOCATION:Schauturm im LGS-Gelände\, Dr.-Kurz-Str.\,\, 92318 Neumarkt in de
 r Oberpfalz
SEQUENCE:0
SUMMARY:Röthenbach in Blumenpracht
UID:fbace5fd-c499-4008-adba-c6952d725b7a
URL:https://touren-termine.adfc.de/radveranstaltung/129569-rothenbach-in-b
 lumenpracht
END:VEVENT
END:VCALENDAR
