BEGIN:VCALENDAR
PRODID:-//github.com/rianjs/ical.net//NONSGML ical.net 4.0//EN
VERSION:2.0
BEGIN:VEVENT
DESCRIPTION:Der ADFC Wuppertal / Solingen betreibt einen Stand zur Verkehr
 swende.\nhttps://touren-termine.adfc.de/radveranstaltung/160964-aktionsst
 and-zum-fruhlingserwachen
DTEND:20250406T150000Z
DTSTAMP:20260421T210744Z
DTSTART:20250406T090000Z
LOCATION:Marktplatz Ohligs\, 42697 Solingen
SEQUENCE:0
SUMMARY:Aktionsstand zum Frühlingserwachen
UID:192ccf8c-69bd-4d31-8302-0f5539e338ff
URL:https://touren-termine.adfc.de/radveranstaltung/160964-aktionsstand-zu
 m-fruhlingserwachen
END:VEVENT
END:VCALENDAR
