BEGIN:VCALENDAR
PRODID:-//github.com/rianjs/ical.net//NONSGML ical.net 4.0//EN
VERSION:2.0
BEGIN:VEVENT
DESCRIPTION:Zum weltweiten „Ride of Silence“-Aktionstag treffen wir uns um
  19:00 Uhr vor dem Roten Rathaus und erinnern an die getöteten Radfahrer:
 innen im Straßenverkehr.\nhttps://touren-termine.adfc.de/radveranstaltung
 /113311-ride-of-silence
DTEND;VALUE=DATE:20240515
DTSTAMP:20260421T233237Z
DTSTART;VALUE=DATE:20240515
LOCATION:Neptunbrunnen in Sichtweite zum Roten Rathaus\, 10178 Berlin
SEQUENCE:0
SUMMARY:Ride of Silence
UID:cc657edf-dda2-4800-ae53-c9d736e00d85
URL:https://touren-termine.adfc.de/radveranstaltung/113311-ride-of-silence
END:VEVENT
END:VCALENDAR
