BEGIN:VCALENDAR
PRODID:-//github.com/rianjs/ical.net//NONSGML ical.net 4.0//EN
VERSION:2.0
BEGIN:VEVENT
DESCRIPTION:Wir bieten verschiedene Strecken zwischen 25 km und 35 km Läng
 e mit einer Fahrtdauer von ca. 2 Stunden an.\nhttps://touren-termine.adfc
 .de/radveranstaltung/178892-feierabendtour-parkplatz-donauarena
DTEND:20260729T190000Z
DTSTAMP:20260421T161032Z
DTSTART:20260729T160000Z
LOCATION:Parkplatz Donau-Arena\, Walhalla-Allee\, 93055 Regensburg
SEQUENCE:0
SUMMARY:Feierabendtour: Parkplatz Donau-Arena
UID:3a2a8420-159e-4e4d-ba47-0d282b641107
URL:https://touren-termine.adfc.de/radveranstaltung/178892-feierabendtour-
 parkplatz-donauarena
END:VEVENT
END:VCALENDAR
