BEGIN:VCALENDAR
PRODID:-//github.com/rianjs/ical.net//NONSGML ical.net 4.0//EN
VERSION:2.0
BEGIN:VEVENT
DESCRIPTION:Schloss Wittringen Gladbeck\nhttps://touren-termine.adfc.de/ra
 dveranstaltung/181749-schonheiten-im-revier
DTEND:20260829T150000Z
DTSTAMP:20260421T151637Z
DTSTART:20260829T080000Z
LOCATION:Bohmertstraße\, 45964 Gladbeck
SEQUENCE:0
SUMMARY:Schönheiten im Revier
UID:16a6ae26-4d34-4f42-be73-8fc47d4cade8
URL:https://touren-termine.adfc.de/radveranstaltung/181749-schonheiten-im-
 revier
END:VEVENT
END:VCALENDAR
