BEGIN:VCALENDAR
PRODID:-//github.com/rianjs/ical.net//NONSGML ical.net 4.0//EN
VERSION:2.0
BEGIN:VEVENT
DESCRIPTION:Ohne Anmeldung. - Anfahrt vom Rathaus Langenhagen zum Startpun
 kt "Klagesmarkt"  der 2. VeloCityNight 2025\nhttps://touren-termine.adfc.
 de/radveranstaltung/164297-anfahrt-zur-velocitynight-single-night-
DTEND:20250509T203000Z
DTSTAMP:20260424T173224Z
DTSTART:20250509T163000Z
LOCATION:ADFC-Radtour-Startplatz zwischen Post und Rathaus: Marktplatz 1\,
  30853 Langenhagen
SEQUENCE:0
SUMMARY:Anfahrt zur Velo-CityNight "Single Night" ⓇⓈ
UID:87a2f358-1841-42f3-981f-b880c4b2458a
URL:https://touren-termine.adfc.de/radveranstaltung/164297-anfahrt-zur-vel
 ocitynight-single-night-
END:VEVENT
END:VCALENDAR
