BEGIN:VCALENDAR
PRODID:-//github.com/rianjs/ical.net//NONSGML ical.net 4.0//EN
VERSION:2.0
BEGIN:VEVENT
DESCRIPTION:Der ADFC-Kreisverband Verden bietet am Sonntag\, während des O
 ttersberger Volksradfahren in der Zeit von 10:00-14:00Uhr eine Fahrradcod
 ierung mittels Klebelabel an.\nhttps://touren-termine.adfc.de/radveransta
 ltung/169787-terminanderung-fahrradcodierung-in-ottersberg
DTEND:20250824T120000Z
DTSTAMP:20260425T160637Z
DTSTART:20250824T080000Z
LOCATION:Grüne Straße 24\, Parkplatz am Rathaus\, 28870 Ottersberg\, 28870
  Landkreis Verden
SEQUENCE:0
SUMMARY:Terminänderung: Fahrradcodierung in Ottersberg
UID:55066cf0-e1e0-47ea-ae1d-a9d1f6f9c2c1
URL:https://touren-termine.adfc.de/radveranstaltung/169787-terminanderung-
 fahrradcodierung-in-ottersberg
END:VEVENT
END:VCALENDAR
