BEGIN:VCALENDAR
PRODID:-//github.com/rianjs/ical.net//NONSGML ical.net 4.0//EN
VERSION:2.0
BEGIN:VEVENT
DESCRIPTION:Wir stricken uns die Fahrradstadt - Mobilität ist nicht männli
 ch! Der Blick von FLINTA auf die Verkehrswende ist in der Stadtplanung un
 terrepräsentiert. Wir wollen das ändern!\nhttps://touren-termine.adfc.de/
 radveranstaltung/160931-cyclistaclub
DTEND:20250417T190000Z
DTSTAMP:20260420T230638Z
DTSTART:20250417T170000Z
LOCATION:Geschäftsstelle ADFC Hamburg\, Koppel 34-36\, 20099 Hamburg\, St.
  Georg
SEQUENCE:0
SUMMARY:Cyclista*Club
UID:e0e8e525-5db0-4b6e-97a8-6fcab9387ee2
URL:https://touren-termine.adfc.de/radveranstaltung/160931-cyclistaclub
END:VEVENT
END:VCALENDAR
