BEGIN:VCALENDAR
PRODID:-//github.com/rianjs/ical.net//NONSGML ical.net 4.0//EN
VERSION:2.0
BEGIN:VEVENT
DESCRIPTION:Schöne Radtour durch den Naturpark Schwäbisch-Fränkischer Wald
 \nhttps://touren-termine.adfc.de/radveranstaltung/144836-rundkurs-von-mur
 rhardt-aus
DTEND:20250223T160000Z
DTSTAMP:20260424T144532Z
DTSTART:20250223T081500Z
LOCATION:Kegelenstraße 12\, 70372 Stuttgart
SEQUENCE:0
SUMMARY:Rundkurs von Murrhardt aus
UID:6b4db8e9-14f8-4363-a708-83fecbcbc5ae
URL:https://touren-termine.adfc.de/radveranstaltung/144836-rundkurs-von-mu
 rrhardt-aus
END:VEVENT
END:VCALENDAR
