BEGIN:VCALENDAR
PRODID:-//github.com/rianjs/ical.net//NONSGML ical.net 4.0//EN
VERSION:2.0
BEGIN:VEVENT
DESCRIPTION:Anmeldung freiwillig - Zwischen Teufelsbrück und Wedel prüfen 
 wir den Fortschritt des Osterfeuer Aufbaus. Zurück über das Binnenland. E
 insteigertour\nhttps://touren-termine.adfc.de/radveranstaltung/150762-ost
 erfeueraufbau-fortschrittsprufung
DTEND:20250419T150000Z
DTSTAMP:20260420T082839Z
DTSTART:20250419T101000Z
LOCATION:Teufelsbrück Fähre\, 22609 Hamburg
SEQUENCE:0
SUMMARY:Osterfeueraufbau- fortschrittsprüfung
UID:9a896209-a4cf-445d-8dce-39826fe1f8e4
URL:https://touren-termine.adfc.de/radveranstaltung/150762-osterfeueraufba
 u-fortschrittsprufung
END:VEVENT
END:VCALENDAR
