BEGIN:VCALENDAR
PRODID:-//github.com/rianjs/ical.net//NONSGML ical.net 4.0//EN
VERSION:2.0
BEGIN:VEVENT
DESCRIPTION:Es werden Themen rund ums Rad (Radtouren\, Verkehrspolitik ode
 r auch Technik) besprochen. Gäste sind herzlich willkommen.\nhttps://tour
 en-termine.adfc.de/radveranstaltung/135469-monatliches-treffen-august-nes
 sis-ctv
DTEND:20240807T190000Z
DTSTAMP:20260421T151830Z
DTSTART:20240807T163000Z
LOCATION:Im Güldenen Winkel\, 29223 Celle
SEQUENCE:0
SUMMARY:Monatliches Treffen\, August (Nessis\, CTV)
UID:32290031-bdb2-441c-8e71-b5e1060f7647
URL:https://touren-termine.adfc.de/radveranstaltung/135469-monatliches-tre
 ffen-august-nessis-ctv
END:VEVENT
END:VCALENDAR
