BEGIN:VCALENDAR
PRODID:-//github.com/rianjs/ical.net//NONSGML ical.net 4.0//EN
VERSION:2.0
BEGIN:VEVENT
DESCRIPTION:Grüne Inseln in Tempelhof\nhttps://touren-termine.adfc.de/radv
 eranstaltung/130234-kieztour-in-tempelhof
DTEND:20240505T140000Z
DTSTAMP:20260424T050425Z
DTSTART:20240505T120000Z
LOCATION:Haupteingang des ehemaligen Flughafens\, Platz der Luftbrücke\, 1
 2101 Berlin
SEQUENCE:0
SUMMARY:Kieztour in Tempelhof
UID:cca8db64-4bec-4062-b372-7d40c97cd735
URL:https://touren-termine.adfc.de/radveranstaltung/130234-kieztour-in-tem
 pelhof
END:VEVENT
END:VCALENDAR
