BEGIN:VCALENDAR
PRODID:-//github.com/rianjs/ical.net//NONSGML ical.net 4.0//EN
VERSION:2.0
BEGIN:VEVENT
DESCRIPTION:Radtour entlang der Rad-Rennstrecke\nhttps://touren-termine.ad
 fc.de/radveranstaltung/102594-cyclassics-fur-geniesser
DTEND:20230819T160000Z
DTSTAMP:20260419T182152Z
DTSTART:20230819T090000Z
LOCATION:S-Bahnhof Wedel\, 22880 Wedel
SEQUENCE:0
SUMMARY:Cyclassics für Genießer!
UID:8992d8b1-8540-45eb-99bf-1af2e83341e1
URL:https://touren-termine.adfc.de/radveranstaltung/102594-cyclassics-fur-
 geniesser
END:VEVENT
END:VCALENDAR
