BEGIN:VCALENDAR
PRODID:-//github.com/rianjs/ical.net//NONSGML ical.net 4.0//EN
VERSION:2.0
BEGIN:VEVENT
DESCRIPTION:Der ADFC Wuppertal / Solingen bietet in Kooperation mit dem AD
 FC Langenfeld-Monheim Fahrradcodierungen an. Die Fahrradcodierung erschwe
 rt Langfingern die Arbeit und mindert den Wiederverkaufswert.\nhttps://to
 uren-termine.adfc.de/radveranstaltung/128480-fahrrad-codierung-zum-fruhli
 ngserwachen
DTEND:20240407T150000Z
DTSTAMP:20260421T172933Z
DTSTART:20240407T090000Z
LOCATION:Marktplatz Ohligs\, 42697 Solingen
SEQUENCE:0
SUMMARY:Fahrrad Codierung zum Frühlingserwachen
UID:ac68d01b-b795-4736-bbd1-a123be9b0e2f
URL:https://touren-termine.adfc.de/radveranstaltung/128480-fahrrad-codieru
 ng-zum-fruhlingserwachen
END:VEVENT
END:VCALENDAR
