BEGIN:VCALENDAR
PRODID:-//github.com/rianjs/ical.net//NONSGML ical.net 4.0//EN
VERSION:2.0
BEGIN:VEVENT
DESCRIPTION:Eine etwas längere Feierabendtour zum "Echinger Italiener" aus
  Albanien\nhttps://touren-termine.adfc.de/radveranstaltung/196961-pizza-p
 asta
DTEND:20260618T193000Z
DTSTAMP:20260421T100721Z
DTSTART:20260618T160000Z
LOCATION:Bike & Ride Fahrradparkhaus\, 85221 Dachau
SEQUENCE:0
SUMMARY:Pizza & Pasta
UID:a2bb6534-e90c-4045-9400-1662493f1c90
URL:https://touren-termine.adfc.de/radveranstaltung/196961-pizza-pasta
END:VEVENT
END:VCALENDAR
