BEGIN:VCALENDAR
PRODID:-//github.com/rianjs/ical.net//NONSGML ical.net 4.0//EN
VERSION:2.0
BEGIN:VEVENT
DESCRIPTION:Radtour speziell für die neuen Studierenden der Universität Ba
 mberg\nhttps://touren-termine.adfc.de/radveranstaltung/139939-erstsemeste
 rradtour-durch-die-stadt-bamberg
DTEND:20241023T160000Z
DTSTAMP:20260421T133304Z
DTSTART:20241023T130000Z
LOCATION:Innenhof der Universität An der Weberei 5\, 96047 Bamberg
SEQUENCE:0
SUMMARY:Erstsemesterradtour durch die Stadt Bamberg
UID:2ec23710-b941-4749-b77b-1b289acf070a
URL:https://touren-termine.adfc.de/radveranstaltung/139939-erstsemesterrad
 tour-durch-die-stadt-bamberg
END:VEVENT
END:VCALENDAR
