BEGIN:VCALENDAR
PRODID:-//github.com/rianjs/ical.net//NONSGML ical.net 4.0//EN
VERSION:2.0
BEGIN:VEVENT
DESCRIPTION:Jeden Montag findet morgens eine Radtour statt.\nhttps://toure
 n-termine.adfc.de/radveranstaltung/112657-montag-morgen-tour
DTEND:20231211T110000Z
DTSTAMP:20260423T201807Z
DTSTART:20231211T090000Z
LOCATION:In der Ahe 29\, 27356 Rotenburg
SEQUENCE:0
SUMMARY:Montag Morgen Tour
UID:36243607-f1bb-46a8-ab1a-7f639d848793
URL:https://touren-termine.adfc.de/radveranstaltung/112657-montag-morgen-t
 our
END:VEVENT
END:VCALENDAR
