BEGIN:VCALENDAR
PRODID:-//github.com/rianjs/ical.net//NONSGML ical.net 4.0//EN
VERSION:2.0
BEGIN:VEVENT
DESCRIPTION:Neue zusätzliche ADFC-Tour\nhttps://touren-termine.adfc.de/rad
 veranstaltung/134460-zu-den-matjestagen-beim-fruchtehof-graue
DTEND:20240615T150000Z
DTSTAMP:20260422T204742Z
DTSTART:20240615T080000Z
LOCATION:Vinckestraße 1 ADFC-Büro\, 32423 Minden
SEQUENCE:0
SUMMARY:Zu den "Matjestagen" beim Früchtehof Graue
UID:6407d22b-a7e8-49d6-b019-bd2b3d9b15e8
URL:https://touren-termine.adfc.de/radveranstaltung/134460-zu-den-matjesta
 gen-beim-fruchtehof-graue
END:VEVENT
END:VCALENDAR
