BEGIN:VCALENDAR
PRODID:-//github.com/rianjs/ical.net//NONSGML ical.net 4.0//EN
VERSION:2.0
BEGIN:VEVENT
DESCRIPTION:Di\, 28.4.2026\, 19.oo - 21.oo\nSBS Burgwedel\, Gartenstr. 10\
 , 30938 Großburgwedel\nhttps://touren-termine.adfc.de/radveranstaltung/19
 2705-offentlicher-radlertreff
DTEND:20260428T190000Z
DTSTAMP:20260423T105804Z
DTSTART:20260428T170000Z
LOCATION:Gartenstraße 10\, 30938 Burgwedel
SEQUENCE:0
SUMMARY:Öffentlicher Radlertreff
UID:cddaadbe-d493-433b-812a-3c50f779a00e
URL:https://touren-termine.adfc.de/radveranstaltung/192705-offentlicher-ra
 dlertreff
END:VEVENT
END:VCALENDAR
