BEGIN:VCALENDAR
PRODID:-//github.com/rianjs/ical.net//NONSGML ical.net 4.0//EN
VERSION:2.0
BEGIN:VEVENT
DESCRIPTION:Unsere Geschäftsstelle ist während der NRW-Schulferien geschlo
 ssen.\nhttps://touren-termine.adfc.de/radveranstaltung/183882-betriebsfer
 ien-unserer-geschaftsstelle
DTEND;VALUE=DATE:20260901
DTSTAMP:20260421T115450Z
DTSTART;VALUE=DATE:20260720
LOCATION:Essen (Innenstadt)\, ADFC Essen Geschäftsstelle\, Rottstraße 5\, 
 45127 Essen
SEQUENCE:0
SUMMARY:Betriebsferien unserer Geschäftsstelle
UID:a3f1fa1f-c435-4a10-9f08-4bc59ff4247a
URL:https://touren-termine.adfc.de/radveranstaltung/183882-betriebsferien-
 unserer-geschaftsstelle
END:VEVENT
END:VCALENDAR
