BEGIN:VCALENDAR
PRODID:-//github.com/rianjs/ical.net//NONSGML ical.net 4.0//EN
VERSION:2.0
BEGIN:VEVENT
DESCRIPTION:Schöne Radtour durch den Teutoburger Wald\, am Mittellandkanal
  und an der Weser\nhttps://touren-termine.adfc.de/radveranstaltung/173572
 -wellnessroute
DTEND:20260816T160000Z
DTSTAMP:20260424T142506Z
DTSTART:20260810T060000Z
LOCATION:Baustraße Stuttgart 21\, 70173 Stuttgart
SEQUENCE:0
SUMMARY:Wellness-Route
UID:595e5060-c512-48af-a1d4-8a6e8471b3fe
URL:https://touren-termine.adfc.de/radveranstaltung/173572-wellnessroute
END:VEVENT
END:VCALENDAR
