BEGIN:VCALENDAR
PRODID:-//github.com/rianjs/ical.net//NONSGML ical.net 4.0//EN
VERSION:2.0
BEGIN:VEVENT
DESCRIPTION:Aktiventreff: In gemütlicher Runde besprechen wir die aktuelle
 n Fahrrad-Themen in Berlin Mitte. Treffpunkt erneut geändert! Wir treffen
  uns jetzt im DOREE 65 gegenüber dem Deichgraf Komm dazu!\nhttps://touren
 -termine.adfc.de/radveranstaltung/196156-treffen-der-stadtteilgruppe-adfc
 -berlin-mitte
DTEND:20260624T190000Z
DTSTAMP:20260419T154956Z
DTSTART:20260624T173000Z
LOCATION:DOREE 65\, Torfstraße 9\, 13353 Berlin
SEQUENCE:0
SUMMARY:Treffen der Stadtteilgruppe ADFC Berlin Mitte
UID:9dd20a38-cbd8-4d58-98c8-f3169ac51ba9
URL:https://touren-termine.adfc.de/radveranstaltung/196156-treffen-der-sta
 dtteilgruppe-adfc-berlin-mitte
END:VEVENT
END:VCALENDAR
