BEGIN:VCALENDAR
PRODID:-//github.com/rianjs/ical.net//NONSGML ical.net 4.0//EN
VERSION:2.0
BEGIN:VEVENT
DESCRIPTION:Mittwoch\, 8.4.\, / Start 18.oo am Rathaus Gbw\nhttps://touren
 -termine.adfc.de/radveranstaltung/192717-kurztour-31-km-durch-den-hastbru
 ch
DTEND:20260408T180000Z
DTSTAMP:20260423T181015Z
DTSTART:20260408T160000Z
LOCATION:Fuhrberger Straße 4\, 30938 Burgwedel
SEQUENCE:0
SUMMARY:Kurztour - 31 km durch den Hastbruch
UID:311ebe2f-e1a9-4d49-9162-76787aa9ae9c
URL:https://touren-termine.adfc.de/radveranstaltung/192717-kurztour-31-km-
 durch-den-hastbruch
END:VEVENT
END:VCALENDAR
