BEGIN:VCALENDAR
PRODID:-//github.com/rianjs/ical.net//NONSGML ical.net 4.0//EN
VERSION:2.0
BEGIN:VEVENT
DESCRIPTION:Regelmäßige Tagestour mit Start in Gauting zu einem naturkundl
 ich\, historisch\, kunsthistorisch oder tagesaktuell interessanten Ziel i
 m Südwesten von München.\nZiel heute:\nhttps://touren-termine.adfc.de/rad
 veranstaltung/188122-unterwegs-im-sudwesten
DTEND:20260730T150000Z
DTSTAMP:20260425T150855Z
DTSTART:20260730T080000Z
LOCATION:Rathaus\, Bahnhofstraße 7\, 82131 Gauting
SEQUENCE:0
SUMMARY:Unterwegs im Südwesten
UID:70deee2e-fe6e-4b2c-b292-96b15e5ff3de
URL:https://touren-termine.adfc.de/radveranstaltung/188122-unterwegs-im-su
 dwesten
END:VEVENT
END:VCALENDAR
