BEGIN:VCALENDAR
PRODID:-//github.com/rianjs/ical.net//NONSGML ical.net 4.0//EN
VERSION:2.0
BEGIN:VEVENT
DESCRIPTION:Eine sportliche Tour durch die wunderschönen Landschaften des 
 südlichen Bliesgau mit einem Abstecher nach Frankreich.\nhttps://touren-t
 ermine.adfc.de/radveranstaltung/146579-grosse-bliesgaubiospharenrunde
DTEND:20250720T140000Z
DTSTAMP:20260421T101055Z
DTSTART:20250720T080000Z
LOCATION:Paradeplatz\, 66440 Blieskastel
SEQUENCE:0
SUMMARY:Große Bliesgau-Biosphären-Runde
UID:f8d4715e-afd7-4c80-900c-56a7087dcbb5
URL:https://touren-termine.adfc.de/radveranstaltung/146579-grosse-bliesgau
 biospharenrunde
END:VEVENT
END:VCALENDAR
