BEGIN:VCALENDAR
PRODID:-//github.com/rianjs/ical.net//NONSGML ical.net 4.0//EN
VERSION:2.0
BEGIN:VEVENT
DESCRIPTION:Von Potsdam radeln wir über Werder zum Deich entlang der Havel
 . Wir gedenken Lilienthal vor den blühenden Bäumen auf dem Panoramaweg. B
 eschaulich geht es am Wasser bis Potsdam. 63 km. Ohne Anmeldung!\nhttps:/
 /touren-termine.adfc.de/radveranstaltung/198604-apfelblutensinfonie
DTEND:20260426T160000Z
DTSTAMP:20260424T160413Z
DTSTART:20260426T083000Z
LOCATION:Potsdam Hauptbahnhof\, Ausgang Babelsberger Straße\, 14473 Potsdam
SEQUENCE:0
SUMMARY:Apfelblüten-Sinfonie
UID:6283c0fc-1177-4b10-8312-01329fdff0cc
URL:https://touren-termine.adfc.de/radveranstaltung/198604-apfelblutensinf
 onie
END:VEVENT
END:VCALENDAR
