BEGIN:VCALENDAR
PRODID:-//github.com/rianjs/ical.net//NONSGML ical.net 4.0//EN
VERSION:2.0
BEGIN:VEVENT
DESCRIPTION:Das Ziel der Tour wird zu Beginn bekanntgegeben. Anschließend 
 Gelegenheit zur gemeinsamen Einkehr.\nhttps://touren-termine.adfc.de/radv
 eranstaltung/184594-feierabendtour
DTEND:20260501T180000Z
DTSTAMP:20260421T103253Z
DTSTART:20260501T160000Z
LOCATION:Hoher Rain 27\, kath. Kirche Rheidt\, 53859 Niederkassel
SEQUENCE:0
SUMMARY:Feierabendtour
UID:e5a2da31-d299-4995-b1ec-1c6bd3095266
URL:https://touren-termine.adfc.de/radveranstaltung/184594-feierabendtour
END:VEVENT
END:VCALENDAR
