BEGIN:VCALENDAR
PRODID:-//github.com/rianjs/ical.net//NONSGML ical.net 4.0//EN
VERSION:2.0
BEGIN:VEVENT
DESCRIPTION:Lockere Feierabendtour\, ev. mit  mit ausgedehnter "Trinkpause
 "\nhttps://touren-termine.adfc.de/radveranstaltung/125186-sudostrunde
DTEND:20240925T193000Z
DTSTAMP:20260421T102907Z
DTSTART:20240925T160000Z
LOCATION:Bike & Ride Fahrradparkhaus\, 85221 Dachau
SEQUENCE:0
SUMMARY:Südostrunde
UID:94cf0dd9-8ea1-4214-a195-06d295b0efa9
URL:https://touren-termine.adfc.de/radveranstaltung/125186-sudostrunde
END:VEVENT
END:VCALENDAR
