BEGIN:VCALENDAR
PRODID:-//github.com/rianjs/ical.net//NONSGML ical.net 4.0//EN
VERSION:2.0
BEGIN:VEVENT
DESCRIPTION:Sichern Sie ihr Fahrrad oder Pedelec vor Diebstahl. Schützen S
 ie Ihr Eigentum und machen Sie ihre Zweiräder durch die Codierung der Pol
 izei für Diebe "unattraktiv".\nhttps://touren-termine.adfc.de/radveransta
 ltung/125744-fahrradcodierungen-fahrradzentrale-bad-bodenteich
DTEND:20240731T150000Z
DTSTAMP:20260424T161559Z
DTSTART:20240731T110000Z
LOCATION:Hauptstraße 12\, 29389 Bad Bodenteich
SEQUENCE:0
SUMMARY:Fahrradcodierungen Fahrradzentrale Bad Bodenteich
UID:9ce69bc0-0fc0-46c4-b183-0a8d097d2bbd
URL:https://touren-termine.adfc.de/radveranstaltung/125744-fahrradcodierun
 gen-fahrradzentrale-bad-bodenteich
END:VEVENT
END:VCALENDAR
