BEGIN:VCALENDAR
PRODID:-//github.com/rianjs/ical.net//NONSGML ical.net 4.0//EN
VERSION:2.0
BEGIN:VEVENT
DESCRIPTION:Die Tour führt über Vornhagen\, Lindhorst\, Bad Nennorf\, Groß
  Munzel und Lohnde zum „Blauen See“ in Garbsen. Die Rückfahrt erfolgt dur
 ch die Leine-Auen über Schloß Ricklingen\nhttps://touren-termine.adfc.de/
 radveranstaltung/178526-blauer-see-in-garbsen
DTEND:20260607T150000Z
DTSTAMP:20260420T173438Z
DTSTART:20260607T080000Z
LOCATION:Marktplatz \,Marktbrunnen\, 31655 Stadthagen
SEQUENCE:0
SUMMARY:Blauer See in Garbsen
UID:b08ad67f-d719-400e-b7db-160aa3477846
URL:https://touren-termine.adfc.de/radveranstaltung/178526-blauer-see-in-g
 arbsen
END:VEVENT
END:VCALENDAR
