BEGIN:VCALENDAR
PRODID:-//github.com/rianjs/ical.net//NONSGML ical.net 4.0//EN
VERSION:2.0
BEGIN:VEVENT
DESCRIPTION:Abschlusstour des diesjährigen Stadtradelns im Landkreis Oberh
 avel einschließlich Zubringertour von Oranienburg nach Birkenwerder\nhttp
 s://touren-termine.adfc.de/radveranstaltung/139680-stadtradelnabschlussto
 ur
DTEND:20240928T150000Z
DTSTAMP:20260425T232017Z
DTSTART:20240928T070000Z
LOCATION:Bahnhof\, 16515 Oranienburg
SEQUENCE:0
SUMMARY:Stadtradeln-Abschlusstour
UID:43725e2a-cad9-4393-9e16-163a3bee8dd8
URL:https://touren-termine.adfc.de/radveranstaltung/139680-stadtradelnabsc
 hlusstour
END:VEVENT
END:VCALENDAR
