BEGIN:VCALENDAR
PRODID:-//github.com/rianjs/ical.net//NONSGML ical.net 4.0//EN
VERSION:2.0
BEGIN:VEVENT
DESCRIPTION:Lust auf 60 Kilometer quer durch die Geestländer Prärie und de
 n Schiffdorfer Wetlands?\nDann ist diese Tour genau die Richtige für dich
 . Entdecke den schönen Mix\, dieser beiden Gemeinden.\nhttps://touren-ter
 mine.adfc.de/radveranstaltung/176056-lange-langener-radtour
DTEND:20260523T140000Z
DTSTAMP:20260421T053039Z
DTSTART:20260523T090000Z
LOCATION:Debstedter Straße 5g\, 27607 Geestland
SEQUENCE:0
SUMMARY:Lange langener Radtour
UID:86e6bb3c-20e7-4e45-9c6f-e183cf51b54f
URL:https://touren-termine.adfc.de/radveranstaltung/176056-lange-langener-
 radtour
END:VEVENT
END:VCALENDAR
