BEGIN:VCALENDAR
PRODID:-//github.com/rianjs/ical.net//NONSGML ical.net 4.0//EN
VERSION:2.0
BEGIN:VEVENT
DESCRIPTION:Durch das Storchendorf Linum zum sagenumwobenen Ritter Kalebuz
  in Kampehl. Besichtigung möglich. Zurück durch das Kremmener Luch wieder
  nach Tegel.\nhttps://touren-termine.adfc.de/radveranstaltung/188018-zum-
 ritter-kalebuz
DTEND:20260418T160000Z
DTSTAMP:20260425T005840Z
DTSTART:20260418T060000Z
LOCATION:U-Bhf. Alt-Tegel\, Ausgang Gorkistraße\, 13507 Berlin
SEQUENCE:0
SUMMARY:Zum Ritter Kalebuz
UID:93f4c99f-42bb-4346-8f1e-fe2ae8202601
URL:https://touren-termine.adfc.de/radveranstaltung/188018-zum-ritter-kale
 buz
END:VEVENT
END:VCALENDAR
