BEGIN:VCALENDAR
PRODID:-//github.com/rianjs/ical.net//NONSGML ical.net 4.0//EN
VERSION:2.0
BEGIN:VEVENT
DESCRIPTION:Wir starten in die STADTRADELN Wochen.\nhttps://touren-termine
 .adfc.de/radveranstaltung/186377-auftakttour-stadtradeln-loxstedt
DTEND;VALUE=DATE:20260517
DTSTAMP:20260421T022352Z
DTSTART;VALUE=DATE:20260517
LOCATION:Am Wedenberg 10\, 27612 Loxstedt
SEQUENCE:0
SUMMARY:Auftakttour STADTRADELN Loxstedt
UID:f5c35ea6-6b35-4940-bc8f-f35d305ce12f
URL:https://touren-termine.adfc.de/radveranstaltung/186377-auftakttour-sta
 dtradeln-loxstedt
END:VEVENT
END:VCALENDAR
