BEGIN:VCALENDAR
PRODID:-//github.com/rianjs/ical.net//NONSGML ical.net 4.0//EN
VERSION:2.0
BEGIN:VEVENT
DESCRIPTION:Die langsamen und gemütlichen Ausfahrten führen durch die Regi
 on rund um Hechthausen.\nhttps://touren-termine.adfc.de/radveranstaltung/
 176118-nachmittagstour-in-hechthausen
DTEND:20260706T140000Z
DTSTAMP:20260421T114904Z
DTSTART:20260706T113000Z
LOCATION:Engelstüvchen\, Mühlenstraße 2\, 21755 Landkreis Cuxhaven
SEQUENCE:0
SUMMARY:Nachmittagstour in Hechthausen
UID:78ec321a-3255-48b4-aaa1-026d27f11b8c
URL:https://touren-termine.adfc.de/radveranstaltung/176118-nachmittagstour
 -in-hechthausen
END:VEVENT
END:VCALENDAR
