BEGIN:VCALENDAR
PRODID:-//github.com/rianjs/ical.net//NONSGML ical.net 4.0//EN
VERSION:2.0
BEGIN:VEVENT
DESCRIPTION:Dieses Angebot passt zu allen\, die nach einem Arbeitstag sich
  nochmal auslüften wollen\, die Lungen mit frischer Luft tanken und/oder 
 einfach ein bis zwei Stunden Bewegung benötigen.\nhttps://touren-termine.
 adfc.de/radveranstaltung/156946-alle-wege-fuhren-um-katzwang-feierabendto
 ur
DTEND:20250325T174500Z
DTSTAMP:20260425T172258Z
DTSTART:20250325T161500Z
LOCATION:Wendehammer Rosine-Speicher-Straße Katzwang\, 90455 Nürnberg
SEQUENCE:0
SUMMARY:Alle Wege führen um Katzwang - Feierabendtour
UID:82db5e55-92f8-436e-b62b-3ebbdee50917
URL:https://touren-termine.adfc.de/radveranstaltung/156946-alle-wege-fuhre
 n-um-katzwang-feierabendtour
END:VEVENT
END:VCALENDAR
