BEGIN:VCALENDAR
PRODID:-//github.com/rianjs/ical.net//NONSGML ical.net 4.0//EN
VERSION:2.0
BEGIN:VEVENT
DESCRIPTION:Leichte bis mittelschwere Feierabendtour in und um Vaihingen\n
 https://touren-termine.adfc.de/radveranstaltung/159703-vaihinger-abendtou
 r
DTEND:20250605T190000Z
DTSTAMP:20260424T143108Z
DTSTART:20250605T163000Z
LOCATION:Vaihingen Busbahnhof\, 70563 Stuttgart
SEQUENCE:0
SUMMARY:Vaihinger Abendtour
UID:572eb000-ee8c-474b-8629-4c96afb475e3
URL:https://touren-termine.adfc.de/radveranstaltung/159703-vaihinger-abend
 tour
END:VEVENT
END:VCALENDAR
