BEGIN:VCALENDAR
PRODID:-//github.com/rianjs/ical.net//NONSGML ical.net 4.0//EN
VERSION:2.0
BEGIN:VEVENT
DESCRIPTION:Mehr Sicherheit für den Radverkehr durch StVO konforme Seitena
 bstände beim Überholen durch Kraftfahrzeuge\nhttps://touren-termine.adfc.
 de/radveranstaltung/117252-projektgruppe-openbikesensor
DTEND:20250414T180000Z
DTSTAMP:20260420T230627Z
DTSTART:20250414T163000Z
LOCATION:Koppel 34-36\, 20099 Hamburg
SEQUENCE:0
SUMMARY:Projektgruppe OpenBikeSensor
UID:bd4fff69-8aa0-4d95-8bc0-4531bc6db63e
URL:https://touren-termine.adfc.de/radveranstaltung/117252-projektgruppe-o
 penbikesensor
END:VEVENT
END:VCALENDAR
