BEGIN:VCALENDAR
PRODID:-//github.com/rianjs/ical.net//NONSGML ical.net 4.0//EN
VERSION:2.0
BEGIN:VEVENT
DESCRIPTION:Radfahrer*innen treffen sich anscheinend zufällig und unorgani
 siert.\nhttps://touren-termine.adfc.de/radveranstaltung/118367-critical-m
 ass-hamburg
DTEND:20240126T210000Z
DTSTAMP:20260420T230638Z
DTSTART:20240126T180000Z
LOCATION:Theodor-Heuss-Platz\, 20354 Hamburg
SEQUENCE:0
SUMMARY:Critical Mass Hamburg
UID:c812d4bd-4b9e-41c7-bb6c-b008ecd14fb9
URL:https://touren-termine.adfc.de/radveranstaltung/118367-critical-mass-h
 amburg
END:VEVENT
END:VCALENDAR
