BEGIN:VCALENDAR
PRODID:-//github.com/rianjs/ical.net//NONSGML ical.net 4.0//EN
VERSION:2.0
BEGIN:VEVENT
DESCRIPTION:Öffentlicher Stammtisch des Kreisverbandes Kempten-Oberallgäu\
 nhttps://touren-termine.adfc.de/radveranstaltung/159847-radlerstammtisch-
 in-martinszell
DTEND:20251218T210000Z
DTSTAMP:20260424T152237Z
DTSTART:20251218T190000Z
LOCATION: IG OMa\, Oberdorfer Bahnhofstraße 7\, 87448 Landkreis Oberallgäu
SEQUENCE:0
SUMMARY:Radlerstammtisch in Martinszell
UID:9d57a0b8-f3e7-4ca2-8e79-d3c0048e4f19
URL:https://touren-termine.adfc.de/radveranstaltung/159847-radlerstammtisc
 h-in-martinszell
END:VEVENT
END:VCALENDAR
