BEGIN:VCALENDAR
PRODID:-//github.com/rianjs/ical.net//NONSGML ical.net 4.0//EN
VERSION:2.0
BEGIN:VEVENT
DESCRIPTION:Besuch des Barthelmarkts in Oberstimm\nhttps://touren-termine.
 adfc.de/radveranstaltung/196975-barthelmarkt
DTEND:20260829T100000Z
DTSTAMP:20260421T100715Z
DTSTART:20260829T070000Z
LOCATION:Bike & Ride Fahrradparkhaus\, 85221 Dachau
SEQUENCE:0
SUMMARY:Barthelmarkt
UID:93e614f1-315d-4531-acbf-6f0d8f9bbe53
URL:https://touren-termine.adfc.de/radveranstaltung/196975-barthelmarkt
END:VEVENT
END:VCALENDAR
