BEGIN:VCALENDAR
PRODID:-//github.com/rianjs/ical.net//NONSGML ical.net 4.0//EN
VERSION:2.0
BEGIN:VEVENT
DESCRIPTION:Die Tulpen-Magnolie treibt schon ihre Knospen aus. Die Blüteze
 it ist recht kurz\, aber Form und Farbe ist prächtig anzuschauen.\nhttps:
 //touren-termine.adfc.de/radveranstaltung/161182-die-tulpenmagnolie-in-un
 serer-region
DTEND:20250325T153000Z
DTSTAMP:20260423T151926Z
DTSTART:20250325T120000Z
LOCATION:Radstation Stationsstraße 3\, S-Bahn\, Omnibusse\, 51465 Bergisch
  Gladbach
SEQUENCE:0
SUMMARY:Die Tulpen-Magnolie in unserer Region
UID:8170dc88-ee63-4635-bee0-60b55842a1cb
URL:https://touren-termine.adfc.de/radveranstaltung/161182-die-tulpenmagno
 lie-in-unserer-region
END:VEVENT
END:VCALENDAR
