BEGIN:VCALENDAR
PRODID:-//github.com/rianjs/ical.net//NONSGML ical.net 4.0//EN
VERSION:2.0
BEGIN:VEVENT
DESCRIPTION:80 km\, 1100 Höhenmeter auf Asphalt und guten Waldwegen mit Ei
 nkehr beim Schäferhof in Jagdhaus. \nWegen schlechter Wettervorhersage fü
 r  Samstag:  VORVERLEGT auf Freitag 11.8.10Uhr\nhttps://touren-termine.ad
 fc.de/radveranstaltung/105237-ebike-nach-jagdhaus-vorverlegt-auf-11810uhr
DTEND:20230812T160000Z
DTSTAMP:20260422T234410Z
DTSTART:20230812T080000Z
LOCATION:Marburger Straße\, Roter Platz\, 57223 Kreuztal
SEQUENCE:0
SUMMARY:E-Bike  nach Jagdhaus VORVERLEGT AUF 11.8.10Uhr
UID:1f623e43-d9eb-4e0d-afbd-636f995882ee
URL:https://touren-termine.adfc.de/radveranstaltung/105237-ebike-nach-jagd
 haus-vorverlegt-auf-11810uhr
END:VEVENT
END:VCALENDAR
