BEGIN:VCALENDAR
PRODID:-//github.com/rianjs/ical.net//NONSGML ical.net 4.0//EN
VERSION:2.0
BEGIN:VEVENT
DESCRIPTION:Das Ziel der Tour wird zu Beginn bekanntgegeben. Anschließend 
 Gelegenheit zur gemeinsamen Einkehr.\nhttps://touren-termine.adfc.de/radv
 eranstaltung/131220-feierabendtour
DTEND:20240816T180000Z
DTSTAMP:20260421T103253Z
DTSTART:20240816T160000Z
LOCATION: Rheidt\, kath. Kirche\, Hoher Rain 27\, 53859 Niederkassel
SEQUENCE:0
SUMMARY:Feierabendtour
UID:849fd7fd-a829-44bf-8955-8c8ba00007ae
URL:https://touren-termine.adfc.de/radveranstaltung/131220-feierabendtour
END:VEVENT
END:VCALENDAR
