BEGIN:VCALENDAR
PRODID:-//github.com/rianjs/ical.net//NONSGML ical.net 4.0//EN
VERSION:2.0
BEGIN:VEVENT
DESCRIPTION:Jeden Montag findet morgens eine Radtour statt.\nhttps://toure
 n-termine.adfc.de/radveranstaltung/135190-montag-morgen-tour
DTEND:20240708T100000Z
DTSTAMP:20260423T201710Z
DTSTART:20240708T080000Z
LOCATION:In der Ahe 29\, 27356 Rotenburg
SEQUENCE:0
SUMMARY:Montag Morgen Tour
UID:2f051e9a-c3cd-4b22-a0cd-66f311ed7a25
URL:https://touren-termine.adfc.de/radveranstaltung/135190-montag-morgen-t
 our
END:VEVENT
END:VCALENDAR
