BEGIN:VCALENDAR
PRODID:-//github.com/rianjs/ical.net//NONSGML ical.net 4.0//EN
VERSION:2.0
BEGIN:VEVENT
DESCRIPTION:Verschiedene Geschwindigkeitsgruppen: Pättkes-Tour (15-18 km/h
 )\, Flotte Tour (18-21 km/h)\, Schnelle Tour (21-23 km/h).\nZiel und Rout
 e werden beim Start bekannt gegeben.\nhttps://touren-termine.adfc.de/radv
 eranstaltung/111756-feierabendtour-rund-um-coesfeld-oktober
DTEND:20241007T160000Z
DTSTAMP:20260419T233414Z
DTSTART:20241007T140000Z
LOCATION:Marktplatz\, 48653 Coesfeld
SEQUENCE:0
SUMMARY:Feierabendtour rund um Coesfeld: Oktober
UID:b06cf208-bbf1-4b53-9f49-8edeb32d748e
URL:https://touren-termine.adfc.de/radveranstaltung/111756-feierabendtour-
 rund-um-coesfeld-oktober
END:VEVENT
END:VCALENDAR
