BEGIN:VCALENDAR
PRODID:-//github.com/rianjs/ical.net//NONSGML ical.net 4.0//EN
VERSION:2.0
BEGIN:VEVENT
DESCRIPTION:Das Ziel der Tour wird zu Beginn bekanntgegeben. Anschließend 
 Gelegenheit zur gemeinsamen Einkehr.\nhttps://touren-termine.adfc.de/radv
 eranstaltung/119589-feierabendtour
DTEND:20240419T180000Z
DTSTAMP:20260419T144230Z
DTSTART:20240419T160000Z
LOCATION: Rheidt\, kath. Kirche\, 53859 Niederkassel
SEQUENCE:0
SUMMARY:Feierabendtour
UID:4fd51408-ec1d-4467-85b5-4982c57d4285
URL:https://touren-termine.adfc.de/radveranstaltung/119589-feierabendtour
END:VEVENT
END:VCALENDAR
