BEGIN:VCALENDAR
PRODID:-//github.com/rianjs/ical.net//NONSGML ical.net 4.0//EN
VERSION:2.0
BEGIN:VEVENT
DESCRIPTION:Familientaugliche Rad-Rundfahrt zum Kennenlernen der 7 Burgwed
 eler Dörfer\nhttps://touren-termine.adfc.de/radveranstaltung/98139-7dorfe
 rtour
DTEND:20230618T140000Z
DTSTAMP:20260423T182514Z
DTSTART:20230618T080000Z
LOCATION:Fuhrberger Straße 4\, 30938 Großburgwedel
SEQUENCE:0
SUMMARY:7-Dörfer-Tour
UID:72eb5dc3-38ff-48e4-b4cb-43f46bac440b
URL:https://touren-termine.adfc.de/radveranstaltung/98139-7dorfertour
END:VEVENT
END:VCALENDAR
